BEGIN:VCALENDAR
VERSION:2.0
PRODID:-//hacksw/handcal//NONSGML v1.0//EN
CALSCALE:GREGORIAN
BEGIN:VEVENT
DTSTART:20110523T130000Z
DTEND:20110523T130000Z
UID:e10859
DTSTAMP:20260420T021638Z
LOCATION:
DESCRIPTION:Equivalences in the generalized Kostant problem 
SUMMARY:Equivalences in the generalized Kostant problem 
END:VEVENT
END:VCALENDAR