BEGIN:VCALENDAR
VERSION:2.0
PRODID:-//hacksw/handcal//NONSGML v1.0//EN
CALSCALE:GREGORIAN
BEGIN:VEVENT
DTSTART:20110616T113000Z
DTEND:20110616T113000Z
UID:e10905
DTSTAMP:20260423T064157Z
LOCATION:
DESCRIPTION:A New Protocol Compiler 
SUMMARY:A New Protocol Compiler 
END:VEVENT
END:VCALENDAR