BEGIN:VCALENDAR
VERSION:2.0
PRODID:-//hacksw/handcal//NONSGML v1.0//EN
CALSCALE:GREGORIAN
BEGIN:VEVENT
DTSTART:20110719T093000Z
DTEND:20110719T093000Z
UID:e11000
DTSTAMP:20260423T033620Z
LOCATION:Jacob Ziskind Building
DESCRIPTION:New vistas on the role of the rodent dopaminergic system in learning and memory  
SUMMARY:New vistas on the role of the rodent dopaminergic system in learning and memory  
END:VEVENT
END:VCALENDAR