BEGIN:VCALENDAR
VERSION:2.0
PRODID:-//hacksw/handcal//NONSGML v1.0//EN
CALSCALE:GREGORIAN
BEGIN:VEVENT
DTSTART:20110905T063000Z
DTEND:20110905T063000Z
UID:e11057
DTSTAMP:20260422T013920Z
LOCATION:Perlman Chemical Sciences Building
DESCRIPTION:Giant titanium wave function in gallium oxide: a potential spin-bus system?
SUMMARY:Giant titanium wave function in gallium oxide: a potential spin-bus system?
END:VEVENT
END:VCALENDAR