BEGIN:VCALENDAR
VERSION:2.0
PRODID:-//hacksw/handcal//NONSGML v1.0//EN
CALSCALE:GREGORIAN
BEGIN:VEVENT
DTSTART:20111206T070000Z
DTEND:20111206T070000Z
UID:e11114
DTSTAMP:20260422T111051Z
LOCATION:Wolfson Building for Biological Research
DESCRIPTION:Supporting learning of high school biology using authentic research practices
SUMMARY:Supporting learning of high school biology using authentic research practices
END:VEVENT
END:VCALENDAR