BEGIN:VCALENDAR
VERSION:2.0
PRODID:-//hacksw/handcal//NONSGML v1.0//EN
CALSCALE:GREGORIAN
BEGIN:VEVENT
DTSTART:20111207T070000Z
DTEND:20111207T070000Z
UID:e11174
DTSTAMP:20260420T071722Z
LOCATION:Arthur and Rochelle Belfer Building for Biomedical Research
DESCRIPTION:Developmental Club
SUMMARY:Developmental Club
END:VEVENT
END:VCALENDAR