BEGIN:VCALENDAR
VERSION:2.0
PRODID:-//hacksw/handcal//NONSGML v1.0//EN
CALSCALE:GREGORIAN
BEGIN:VEVENT
DTSTART:20111205T110000Z
DTEND:20111205T110000Z
UID:e11349
DTSTAMP:20260422T041409Z
LOCATION:Max and Lillian Candiotty Building
DESCRIPTION:Tumor-entrained  neutrophils inhibit metatastic seeding in the lungs
SUMMARY:Tumor-entrained  neutrophils inhibit metatastic seeding in the lungs
END:VEVENT
END:VCALENDAR