BEGIN:VCALENDAR
VERSION:2.0
PRODID:-//hacksw/handcal//NONSGML v1.0//EN
CALSCALE:GREGORIAN
BEGIN:VEVENT
DTSTART:20111129T153000Z
DTEND:20111129T173000Z
UID:e11418
DTSTAMP:20260423T095529Z
LOCATION:Wolfson Building for Biological Research
DESCRIPTION:Cinema Club
SUMMARY:Cinema Club
END:VEVENT
END:VCALENDAR