BEGIN:VCALENDAR
VERSION:2.0
PRODID:-//hacksw/handcal//NONSGML v1.0//EN
CALSCALE:GREGORIAN
BEGIN:VEVENT
DTSTART:20111127T050000Z
DTEND:20111127T050000Z
UID:e11442
DTSTAMP:20260422T205627Z
LOCATION:Perlman Chemical Sciences Building
DESCRIPTION:Testing 
SUMMARY:Testing 
END:VEVENT
END:VCALENDAR