BEGIN:VCALENDAR
VERSION:2.0
PRODID:-//hacksw/handcal//NONSGML v1.0//EN
CALSCALE:GREGORIAN
BEGIN:VEVENT
DTSTART:20111129T090000Z
DTEND:20111129T090000Z
UID:e11451
DTSTAMP:20260422T062220Z
LOCATION:Wolfson Building for Biological Research
DESCRIPTION:Importin 7 and exportin 1 link c-Myc and p53 to regulation of ribosomal biogenesis
SUMMARY:Importin 7 and exportin 1 link c-Myc and p53 to regulation of ribosomal biogenesis
END:VEVENT
END:VCALENDAR