BEGIN:VCALENDAR
VERSION:2.0
PRODID:-//hacksw/handcal//NONSGML v1.0//EN
CALSCALE:GREGORIAN
BEGIN:VEVENT
DTSTART:20111218T101500Z
DTEND:20111218T101500Z
UID:e11460
DTSTAMP:20260423T194307Z
LOCATION:Gerhard M.J. Schmidt Lecture Hall
DESCRIPTION:"A Solar Hydrogen-Producing Bio-Nanodevice that Outperforms Natural Photosynthesis"
SUMMARY:"A Solar Hydrogen-Producing Bio-Nanodevice that Outperforms Natural Photosynthesis"
END:VEVENT
END:VCALENDAR