BEGIN:VCALENDAR
VERSION:2.0
PRODID:-//hacksw/handcal//NONSGML v1.0//EN
CALSCALE:GREGORIAN
BEGIN:VEVENT
DTSTART:20120103T080000Z
DTEND:20120103T080000Z
UID:e11496
DTSTAMP:20260421T170259Z
LOCATION:Jacob Ziskind Building
DESCRIPTION:Fast Distributed Computing Despite Poor Connectivity 
SUMMARY:Fast Distributed Computing Despite Poor Connectivity 
END:VEVENT
END:VCALENDAR