BEGIN:VCALENDAR
VERSION:2.0
PRODID:-//hacksw/handcal//NONSGML v1.0//EN
CALSCALE:GREGORIAN
BEGIN:VEVENT
DTSTART:20111212T070000Z
DTEND:20111212T083000Z
UID:e11499
DTSTAMP:20260422T113902Z
LOCATION:Arthur and Rochelle Belfer Building for Biomedical Research
DESCRIPTION:Using genomics and epigenomics to manage breast cancer risk in a personalized medicine approach
SUMMARY:Using genomics and epigenomics to manage breast cancer risk in a personalized medicine approach
END:VEVENT
END:VCALENDAR