BEGIN:VCALENDAR
VERSION:2.0
PRODID:-//hacksw/handcal//NONSGML v1.0//EN
CALSCALE:GREGORIAN
BEGIN:VEVENT
DTSTART:20120117T080000Z
DTEND:20120117T080000Z
UID:e11529
DTSTAMP:20260419T090759Z
LOCATION:Jacob Ziskind Building
DESCRIPTION:Quantum Mechanics Without Wavefunctions 
SUMMARY:Quantum Mechanics Without Wavefunctions 
END:VEVENT
END:VCALENDAR