BEGIN:VCALENDAR
VERSION:2.0
PRODID:-//hacksw/handcal//NONSGML v1.0//EN
CALSCALE:GREGORIAN
BEGIN:VEVENT
DTSTART:20120121T173000Z
DTEND:20120121T173000Z
UID:e11541
DTSTAMP:20260422T152635Z
LOCATION:Michael Sela Auditorium
DESCRIPTION:"Play it again Sam" - Beer Sheva Theatre
SUMMARY:"Play it again Sam" - Beer Sheva Theatre
END:VEVENT
END:VCALENDAR