BEGIN:VCALENDAR
VERSION:2.0
PRODID:-//hacksw/handcal//NONSGML v1.0//EN
CALSCALE:GREGORIAN
BEGIN:VEVENT
DTSTART:20111220T073000Z
DTEND:20111220T090000Z
UID:e11586
DTSTAMP:20260422T155331Z
LOCATION:
DESCRIPTION:"Harmony of Scattering Amplitudes: From Collider Physics To Supergravity"
SUMMARY:"Harmony of Scattering Amplitudes: From Collider Physics To Supergravity"
END:VEVENT
END:VCALENDAR