BEGIN:VCALENDAR
VERSION:2.0
PRODID:-//hacksw/handcal//NONSGML v1.0//EN
CALSCALE:GREGORIAN
BEGIN:VEVENT
DTSTART:20120108T064500Z
DTEND:20120108T091500Z
UID:e11595
DTSTAMP:20260422T033249Z
LOCATION:Michael Sela Auditorium
DESCRIPTION:Mini-Symposium - Functional Supramolecular Systems 
SUMMARY:Mini-Symposium - Functional Supramolecular Systems 
END:VEVENT
END:VCALENDAR