BEGIN:VCALENDAR
VERSION:2.0
PRODID:-//hacksw/handcal//NONSGML v1.0//EN
CALSCALE:GREGORIAN
BEGIN:VEVENT
DTSTART:20120131T080000Z
DTEND:20120131T080000Z
UID:e11661
DTSTAMP:20260423T070730Z
LOCATION:Jacob Ziskind Building
DESCRIPTION:Oscillations and vibrations- The Sturm and Courant theorems  revisited
SUMMARY:Oscillations and vibrations- The Sturm and Courant theorems  revisited
END:VEVENT
END:VCALENDAR