BEGIN:VCALENDAR
VERSION:2.0
PRODID:-//hacksw/handcal//NONSGML v1.0//EN
CALSCALE:GREGORIAN
BEGIN:VEVENT
DTSTART:20120110T081500Z
DTEND:20120110T081500Z
UID:e11688
DTSTAMP:20260423T141550Z
LOCATION:Ullmann Building of Life Sciences
DESCRIPTION:&#8220\;Multi-dimensional mass spectrometry-based shotgun lipidomics and its applications for biological and biomedical research&#8221\;
SUMMARY:&#8220\;Multi-dimensional mass spectrometry-based shotgun lipidomics and its applications for biological and biomedical research&#8221\;
END:VEVENT
END:VCALENDAR