BEGIN:VCALENDAR
VERSION:2.0
PRODID:-//hacksw/handcal//NONSGML v1.0//EN
CALSCALE:GREGORIAN
BEGIN:VEVENT
DTSTART:20120205T100000Z
DTEND:20120205T110000Z
UID:e11712
DTSTAMP:20260422T051819Z
LOCATION:Ullmann Building of Life Sciences
DESCRIPTION:Microbiology Journal Club - Inheritance in D. melanogaster of different phenotypes and its reversal by commensal bacteria
SUMMARY:Microbiology Journal Club - Inheritance in D. melanogaster of different phenotypes and its reversal by commensal bacteria
END:VEVENT
END:VCALENDAR