BEGIN:VCALENDAR
VERSION:2.0
PRODID:-//hacksw/handcal//NONSGML v1.0//EN
CALSCALE:GREGORIAN
BEGIN:VEVENT
DTSTART:20120401T100000Z
DTEND:20120401T110000Z
UID:e11715
DTSTAMP:20260423T035100Z
LOCATION:Ullmann Building of Life Sciences
DESCRIPTION:Regulated proteolysis in Bacteria 
SUMMARY:Regulated proteolysis in Bacteria 
END:VEVENT
END:VCALENDAR