BEGIN:VCALENDAR
VERSION:2.0
PRODID:-//hacksw/handcal//NONSGML v1.0//EN
CALSCALE:GREGORIAN
BEGIN:VEVENT
DTSTART:20120126T080000Z
DTEND:20120126T080000Z
UID:e11733
DTSTAMP:20260421T182750Z
LOCATION:Jacob Ziskind Building
DESCRIPTION:The Zero Type Property And Mixing of Bernoulli Shifts 
SUMMARY:The Zero Type Property And Mixing of Bernoulli Shifts 
END:VEVENT
END:VCALENDAR