BEGIN:VCALENDAR
VERSION:2.0
PRODID:-//hacksw/handcal//NONSGML v1.0//EN
CALSCALE:GREGORIAN
BEGIN:VEVENT
DTSTART:19691231T160000Z
DTEND:19691231T160000Z
UID:e11748
DTSTAMP:20260419T214942Z
LOCATION:The David Lopatie Conference Centre
DESCRIPTION:Weizmann Institute - New York University Science Days: Frontiers in Brain and Cognition
SUMMARY:Weizmann Institute - New York University Science Days: Frontiers in Brain and Cognition
END:VEVENT
END:VCALENDAR