BEGIN:VCALENDAR
VERSION:2.0
PRODID:-//hacksw/handcal//NONSGML v1.0//EN
CALSCALE:GREGORIAN
BEGIN:VEVENT
DTSTART:20120209T080000Z
DTEND:20120209T080000Z
UID:e11796
DTSTAMP:20260423T095524Z
LOCATION:Jacob Ziskind Building
DESCRIPTION:Linear equations in primes and nilpotent groups 
SUMMARY:Linear equations in primes and nilpotent groups 
END:VEVENT
END:VCALENDAR