BEGIN:VCALENDAR
VERSION:2.0
PRODID:-//hacksw/handcal//NONSGML v1.0//EN
CALSCALE:GREGORIAN
BEGIN:VEVENT
DTSTART:19691231T160000Z
DTEND:19691231T160000Z
UID:e11799
DTSTAMP:20260419T130810Z
LOCATION:
DESCRIPTION:SAAC Review 2013
SUMMARY:SAAC Review 2013
END:VEVENT
END:VCALENDAR