BEGIN:VCALENDAR
VERSION:2.0
PRODID:-//hacksw/handcal//NONSGML v1.0//EN
CALSCALE:GREGORIAN
BEGIN:VEVENT
DTSTART:20120217T080000Z
DTEND:20120217T080000Z
UID:e11808
DTSTAMP:20260422T043538Z
LOCATION:Michael Sela Auditorium
DESCRIPTION:"Morning with a French Scent"
SUMMARY:"Morning with a French Scent"
END:VEVENT
END:VCALENDAR