BEGIN:VCALENDAR
VERSION:2.0
PRODID:-//hacksw/handcal//NONSGML v1.0//EN
CALSCALE:GREGORIAN
BEGIN:VEVENT
DTSTART:20120327T120000Z
DTEND:20120327T120000Z
UID:e11829
DTSTAMP:20260422T014131Z
LOCATION:Max and Lillian Candiotty Building
DESCRIPTION:Helmsley funded seminar
SUMMARY:Helmsley funded seminar
END:VEVENT
END:VCALENDAR