BEGIN:VCALENDAR
VERSION:2.0
PRODID:-//hacksw/handcal//NONSGML v1.0//EN
CALSCALE:GREGORIAN
BEGIN:VEVENT
DTSTART:20120223T080000Z
DTEND:20120223T080000Z
UID:e11865
DTSTAMP:20260423T033614Z
LOCATION:Jacob Ziskind Building
DESCRIPTION:Quenched invariance principle for random walks and random divergence forms in random media on cones
SUMMARY:Quenched invariance principle for random walks and random divergence forms in random media on cones
END:VEVENT
END:VCALENDAR