BEGIN:VCALENDAR
VERSION:2.0
PRODID:-//hacksw/handcal//NONSGML v1.0//EN
CALSCALE:GREGORIAN
BEGIN:VEVENT
DTSTART:20120318T060000Z
DTEND:20120318T130000Z
UID:e11874
DTSTAMP:20260422T234632Z
LOCATION:
DESCRIPTION:Workshop: Volocity Tutorial for beginners
SUMMARY:Workshop: Volocity Tutorial for beginners
END:VEVENT
END:VCALENDAR