BEGIN:VCALENDAR
VERSION:2.0
PRODID:-//hacksw/handcal//NONSGML v1.0//EN
CALSCALE:GREGORIAN
BEGIN:VEVENT
DTSTART:20120417T143000Z
DTEND:20120417T143000Z
UID:e11886
DTSTAMP:20260422T023138Z
LOCATION:Michael Sela Auditorium
DESCRIPTION:Snow White and the Seven Dwarfs
SUMMARY:Snow White and the Seven Dwarfs
END:VEVENT
END:VCALENDAR