BEGIN:VCALENDAR
VERSION:2.0
PRODID:-//hacksw/handcal//NONSGML v1.0//EN
CALSCALE:GREGORIAN
BEGIN:VEVENT
DTSTART:20120320T080000Z
DTEND:20120320T080000Z
UID:e11937
DTSTAMP:20260423T141757Z
LOCATION:Jacob Ziskind Building
DESCRIPTION:Data driven modeling and dimensionality reduction 
SUMMARY:Data driven modeling and dimensionality reduction 
END:VEVENT
END:VCALENDAR