BEGIN:VCALENDAR
VERSION:2.0
PRODID:-//hacksw/handcal//NONSGML v1.0//EN
CALSCALE:GREGORIAN
BEGIN:VEVENT
DTSTART:20120503T173000Z
DTEND:20120503T173000Z
UID:e12024
DTSTAMP:20260422T114746Z
LOCATION:Michael Sela Auditorium
DESCRIPTION:Rochelle  is getting married
SUMMARY:Rochelle  is getting married
END:VEVENT
END:VCALENDAR