BEGIN:VCALENDAR
VERSION:2.0
PRODID:-//hacksw/handcal//NONSGML v1.0//EN
CALSCALE:GREGORIAN
BEGIN:VEVENT
DTSTART:20120521T173000Z
DTEND:20120521T173000Z
UID:e12030
DTSTAMP:20260421T182750Z
LOCATION:Michael Sela Auditorium
DESCRIPTION:Gil Shohat and Marina Maximilian Blumin
SUMMARY:Gil Shohat and Marina Maximilian Blumin
END:VEVENT
END:VCALENDAR