BEGIN:VCALENDAR
VERSION:2.0
PRODID:-//hacksw/handcal//NONSGML v1.0//EN
CALSCALE:GREGORIAN
BEGIN:VEVENT
DTSTART:20120607T081500Z
DTEND:20120607T093000Z
UID:e12051
DTSTAMP:20260420T140812Z
LOCATION:Edna and K.B. Weissman Building of Physical Sciences
DESCRIPTION:"Electron spin filter action in helical molecules"
SUMMARY:"Electron spin filter action in helical molecules"
END:VEVENT
END:VCALENDAR