BEGIN:VCALENDAR
VERSION:2.0
PRODID:-//hacksw/handcal//NONSGML v1.0//EN
CALSCALE:GREGORIAN
BEGIN:VEVENT
DTSTART:20120416T080000Z
DTEND:20120416T090000Z
UID:e12075
DTSTAMP:20260421T173007Z
LOCATION:Jacob Ziskind Building
DESCRIPTION:Chemical feedback microprocessors for constructive DNA processing
SUMMARY:Chemical feedback microprocessors for constructive DNA processing
END:VEVENT
END:VCALENDAR