BEGIN:VCALENDAR
VERSION:2.0
PRODID:-//hacksw/handcal//NONSGML v1.0//EN
CALSCALE:GREGORIAN
BEGIN:VEVENT
DTSTART:20120404T070000Z
DTEND:20120404T090000Z
UID:e12078
DTSTAMP:20260419T183901Z
LOCATION:Edna and K.B. Weissman Building of Physical Sciences
DESCRIPTION:Laser Wakefield Acceleration in a Z-Pinch Plasma-Channel
SUMMARY:Laser Wakefield Acceleration in a Z-Pinch Plasma-Channel
END:VEVENT
END:VCALENDAR