BEGIN:VCALENDAR
VERSION:2.0
PRODID:-//hacksw/handcal//NONSGML v1.0//EN
CALSCALE:GREGORIAN
BEGIN:VEVENT
DTSTART:20120405T080000Z
DTEND:20120405T080000Z
UID:e12084
DTSTAMP:20260422T205656Z
LOCATION:Jacob Ziskind Building
DESCRIPTION:Weak invariance principle for the local times of partial sums of Markov Chains
SUMMARY:Weak invariance principle for the local times of partial sums of Markov Chains
END:VEVENT
END:VCALENDAR