BEGIN:VCALENDAR
VERSION:2.0
PRODID:-//hacksw/handcal//NONSGML v1.0//EN
CALSCALE:GREGORIAN
BEGIN:VEVENT
DTSTART:20120508T080000Z
DTEND:20120508T080000Z
UID:e12156
DTSTAMP:20260421T233529Z
LOCATION:Jacob Ziskind Building
DESCRIPTION:100 years of Weyls law 
SUMMARY:100 years of Weyls law 
END:VEVENT
END:VCALENDAR