BEGIN:VCALENDAR
VERSION:2.0
PRODID:-//hacksw/handcal//NONSGML v1.0//EN
CALSCALE:GREGORIAN
BEGIN:VEVENT
DTSTART:20120508T073000Z
DTEND:20120508T090000Z
UID:e12189
DTSTAMP:20260423T064134Z
LOCATION:
DESCRIPTION:Strongly coupled Plasma and the AdS/CFT correspondence
SUMMARY:Strongly coupled Plasma and the AdS/CFT correspondence
END:VEVENT
END:VCALENDAR