BEGIN:VCALENDAR
VERSION:2.0
PRODID:-//hacksw/handcal//NONSGML v1.0//EN
CALSCALE:GREGORIAN
BEGIN:VEVENT
DTSTART:20120515T081500Z
DTEND:20120515T093000Z
UID:e12195
DTSTAMP:20260422T173639Z
LOCATION:Edna and K.B. Weissman Building of Physical Sciences
DESCRIPTION:Black hole thermodynamics - then and now
SUMMARY:Black hole thermodynamics - then and now
END:VEVENT
END:VCALENDAR