BEGIN:VCALENDAR
VERSION:2.0
PRODID:-//hacksw/handcal//NONSGML v1.0//EN
CALSCALE:GREGORIAN
BEGIN:VEVENT
DTSTART:20120603T120000Z
DTEND:20120603T130000Z
UID:e12279
DTSTAMP:20260422T155331Z
LOCATION:Gerhard M.J. Schmidt Lecture Hall
DESCRIPTION:Magnetic Resonance Special Seminar
SUMMARY:Magnetic Resonance Special Seminar
END:VEVENT
END:VCALENDAR