BEGIN:VCALENDAR
VERSION:2.0
PRODID:-//hacksw/handcal//NONSGML v1.0//EN
CALSCALE:GREGORIAN
BEGIN:VEVENT
DTSTART:20120604T080000Z
DTEND:20120604T090000Z
UID:e12288
DTSTAMP:20260423T033633Z
LOCATION:Gerhard M.J. Schmidt Lecture Hall
DESCRIPTION:Faculty of Chemistry Colloquium - Prof. Laurernce Barron
SUMMARY:Faculty of Chemistry Colloquium - Prof. Laurernce Barron
END:VEVENT
END:VCALENDAR