BEGIN:VCALENDAR
VERSION:2.0
PRODID:-//hacksw/handcal//NONSGML v1.0//EN
CALSCALE:GREGORIAN
BEGIN:VEVENT
DTSTART:20120613T101500Z
DTEND:20120613T113000Z
UID:e12324
DTSTAMP:20260422T054147Z
LOCATION:Edna and K.B. Weissman Building of Physical Sciences
DESCRIPTION:Anomalous diamagnetic response in a spin-orbit insulator
SUMMARY:Anomalous diamagnetic response in a spin-orbit insulator
END:VEVENT
END:VCALENDAR