BEGIN:VCALENDAR
VERSION:2.0
PRODID:-//hacksw/handcal//NONSGML v1.0//EN
CALSCALE:GREGORIAN
BEGIN:VEVENT
DTSTART:20120614T080000Z
DTEND:20120614T093000Z
UID:e12327
DTSTAMP:20260421T215034Z
LOCATION:Perlman Chemical Sciences Building
DESCRIPTION:Magnetic Resonance Seminar
SUMMARY:Magnetic Resonance Seminar
END:VEVENT
END:VCALENDAR