BEGIN:VCALENDAR
VERSION:2.0
PRODID:-//hacksw/handcal//NONSGML v1.0//EN
CALSCALE:GREGORIAN
BEGIN:VEVENT
DTSTART:20121022T173000Z
DTEND:20121022T173000Z
UID:e12426
DTSTAMP:20260423T141550Z
LOCATION:Michael Sela Auditorium
DESCRIPTION:Leonid Ptashka- Concert
SUMMARY:Leonid Ptashka- Concert
END:VEVENT
END:VCALENDAR