BEGIN:VCALENDAR
VERSION:2.0
PRODID:-//hacksw/handcal//NONSGML v1.0//EN
CALSCALE:GREGORIAN
BEGIN:VEVENT
DTSTART:20121015T113000Z
DTEND:20121015T113000Z
UID:e12507
DTSTAMP:20260420T144919Z
LOCATION:Jacob Ziskind Building
DESCRIPTION:Statistical Algorithms and a Lower Bound for Planted Clique 
SUMMARY:Statistical Algorithms and a Lower Bound for Planted Clique 
END:VEVENT
END:VCALENDAR