BEGIN:VCALENDAR
VERSION:2.0
PRODID:-//hacksw/handcal//NONSGML v1.0//EN
CALSCALE:GREGORIAN
BEGIN:VEVENT
DTSTART:20121018T110000Z
DTEND:20121018T120000Z
UID:e12522
DTSTAMP:20260422T190449Z
LOCATION:Gerhard M.J. Schmidt Lecture Hall
DESCRIPTION:"Integrating structural and systems biology: Structure-based prediction of protein-protein interactions on a genome wide scale."
SUMMARY:"Integrating structural and systems biology: Structure-based prediction of protein-protein interactions on a genome wide scale."
END:VEVENT
END:VCALENDAR