BEGIN:VCALENDAR
VERSION:2.0
PRODID:-//hacksw/handcal//NONSGML v1.0//EN
CALSCALE:GREGORIAN
BEGIN:VEVENT
DTSTART:20121113T100000Z
DTEND:20121113T100000Z
UID:e12765
DTSTAMP:20260421T215239Z
LOCATION:Gerhard M.J. Schmidt Lecture Hall
DESCRIPTION:Structural clues to a visual function: direction selectivity in the retina
SUMMARY:Structural clues to a visual function: direction selectivity in the retina
END:VEVENT
END:VCALENDAR