BEGIN:VCALENDAR
VERSION:2.0
PRODID:-//hacksw/handcal//NONSGML v1.0//EN
CALSCALE:GREGORIAN
BEGIN:VEVENT
DTSTART:20121220T063000Z
DTEND:20121220T073000Z
UID:e12918
DTSTAMP:20260422T172120Z
LOCATION:Gerhard M.J. Schmidt Lecture Hall
DESCRIPTION:Magnetic Resonance Seminar
SUMMARY:Magnetic Resonance Seminar
END:VEVENT
END:VCALENDAR