BEGIN:VCALENDAR
VERSION:2.0
PRODID:-//hacksw/handcal//NONSGML v1.0//EN
CALSCALE:GREGORIAN
BEGIN:VEVENT
DTSTART:20121219T080000Z
DTEND:20121219T080000Z
UID:e12924
DTSTAMP:20260422T190522Z
LOCATION:The David Lopatie Hall of Graduate Studies
DESCRIPTION:Logarithmic fluctuations from circularity 
SUMMARY:Logarithmic fluctuations from circularity 
END:VEVENT
END:VCALENDAR